BEGIN:VCALENDAR
METHOD:PUBLISH
VERSION:2.0
CALSCALE:GREGORIAN
PRODID:-//NONSGML WPForms//NONSGML Sugar Calendar Feeds v3.9.0//EN
X-WR-CALNAME:GiveBIG 2026\, by Washington Gives
X-WR-CALDESC:CHEW Dog Rescue
X-WR-TIMEZONE:UTC
BEGIN:VTIMEZONE
TZID:UTC
BEGIN:STANDARD
TZOFFSETFROM:+0000
TZOFFSETTO:+0000
DTSTART:20251103T120000
TZNAME:UTC
END:STANDARD
END:VTIMEZONE
BEGIN:VTIMEZONE
TZID:UTC
BEGIN:STANDARD
TZOFFSETFROM:+0000
TZOFFSETTO:+0000
DTSTART:20251103T120000
TZNAME:UTC
END:STANDARD
END:VTIMEZONE
BEGIN:VEVENT
SUMMARY:GiveBIG 2026\, by Washington Gives
DESCRIPTION:CHEW Dog Rescue will participate in GiveBIG 2026 (hosted by 
 WA Gives) with a fundraising goal of $2\,500. Will you show up for the d
 ogs? #GiveBIG #ItsUpToUs \n\nDONATE TODAY!
URL;VALUE=URI:https://chewdogrescue.org/events/givebig-2026-by-washingto
 n-gives/
UID:urn:uuid:a6422896-e69c-47a6-a0fe-12ad170a2da3
STATUS:CONFIRMED
ORGANIZER:
DTSTAMP:20260420T024733Z
DTSTART;VALUE=DATE:20260505
END:VEVENT
END:VCALENDAR