BEGIN:VCALENDAR
METHOD:PUBLISH
VERSION:2.0
CALSCALE:GREGORIAN
PRODID:-//NONSGML WPForms//NONSGML Sugar Calendar Feeds v3.9.0//EN
X-WR-CALNAME:GiveBIG 2026 - Early Giving Starts Today!
X-WR-CALDESC:CHEW Dog Rescue
X-WR-TIMEZONE:UTC
BEGIN:VTIMEZONE
TZID:UTC
BEGIN:STANDARD
TZOFFSETFROM:+0000
TZOFFSETTO:+0000
DTSTART:20251027T120000
TZNAME:UTC
END:STANDARD
END:VTIMEZONE
BEGIN:VTIMEZONE
TZID:UTC
BEGIN:STANDARD
TZOFFSETFROM:+0000
TZOFFSETTO:+0000
DTSTART:20251027T120000
TZNAME:UTC
END:STANDARD
END:VTIMEZONE
BEGIN:VEVENT
SUMMARY:GiveBIG 2026 - Early Giving Starts Today!
DESCRIPTION:CHEW Dog Rescue will participate in GiveBIG 2026 (hosted by 
 WA Gives) with a fundraising goal of $2\,500. Early giving starts on Apr
 il 28\, 2026 and culminates on May 5\, 2026. Will you show up for the do
 gs? #GiveBIG #ItsUpToUs \n\nDONATE NOW!
URL;VALUE=URI:https://chewdogrescue.org/events/givebig-2026-early-giving
 -starts-today/
UID:urn:uuid:bf141698-eff2-44e7-8551-a3d86a39576c
STATUS:CONFIRMED
ORGANIZER:
DTSTAMP:20260420T025021Z
DTSTART;VALUE=DATE:20260428
DTEND;VALUE=DATE:20260504
END:VEVENT
END:VCALENDAR